BEGIN:VCALENDAR
VERSION:2.0
PRODID:-//Tukios.com/
BEGIN:VEVENT
UID:1821ffd9-be25-4016-a93e-bbe656b54e95@www.davislittlefunerals.com
DTSTAMP:20260421T173319Z
DTSTART:20260423T150000Z
DTEND:20260423T160000Z
SUMMARY:Funeral Service
DESCRIPTION:
URL:https://www.davislittlefunerals.com/obituaries/dorothy-williams
LOCATION: 4776 Dortches Boulevard  Rocky Mount NC 27804
GEO:36.0105428;-77.8556693
END:VEVENT
END:VCALENDAR