BEGIN:VCALENDAR
VERSION:2.0
PRODID:-//Tukios.com/
BEGIN:VEVENT
UID:c68aab6e-9df2-4ef1-aaf3-4b53e8762389@www.davislittlefunerals.com
DTSTAMP:20260421T173730Z
DTSTART:20260423T140000Z
DTEND:20260423T144500Z
SUMMARY:Visitation
DESCRIPTION:
URL:https://www.davislittlefunerals.com/obituaries/dorothy-williams
LOCATION: 4776 Dortches Boulevard  Rocky Mount NC 27804
GEO:36.0105428;-77.8556693
END:VEVENT
END:VCALENDAR