BEGIN:VCALENDAR
VERSION:2.0
PRODID:-//Tukios.com/
BEGIN:VEVENT
UID:44a599f2-ace4-4ed9-89dd-de2c0f680518@www.davislittlefunerals.com
DTSTAMP:20260422T001746Z
DTSTART:20260424T183000Z
DTEND:20260424T193000Z
SUMMARY:Graveside Service
DESCRIPTION:
URL:https://www.davislittlefunerals.com/obituaries/ella-davis
LOCATION: 761 East Raleigh Boulevard  Rocky Mount NC 27803
GEO:35.9387621;-77.7809672
END:VEVENT
END:VCALENDAR