BEGIN:VCALENDAR
VERSION:2.0
PRODID:-//Tukios.com/
BEGIN:VEVENT
UID:b362960e-1e22-4a5b-94fd-40894e2c0cbc@www.davislittlefunerals.com
DTSTAMP:20260422T000850Z
DTSTART:20260424T170000Z
DTEND:20260424T180000Z
SUMMARY:Visitation
DESCRIPTION:
URL:https://www.davislittlefunerals.com/obituaries/ella-davis
LOCATION:Davis-Little Funerals 2129 Lawrence Circle  Rocky Mount NC 27804
GEO:35.9592906;-77.8205111
END:VEVENT
END:VCALENDAR